BEGIN:VCALENDAR
VERSION:2.0
PRODID:icalendar-ruby
CALSCALE:GREGORIAN
METHOD:PUBLISH
BEGIN:VEVENT
DTSTAMP:20260423T115941Z
UID:2121-4715792@vancouver.churchos.ca
DTSTART;VALUE=DATE:20261011
DTEND;VALUE=DATE:20261011
CLASS:PUBLIC
CREATED:20260423T030642
DESCRIPTION:Please join us for our In person or Online Sunday Worship servi
 ces at 8&amp\;10 am \nGo to our website and click on Worship Services for
  links and info.\nAll are welcome!
LAST-MODIFIED:20260423T030642
LOCATION:
SUMMARY:In person and online.  
URL;VALUE=URI:https://vancouver.churchos.ca/events/in-person-and-online/202
 6-10-11
ATTACH;FILENAME=You are invited.png;FMTTYPE=image/png:https://dq5pwpg1q8ru0
 .cloudfront.net/2020/05/07/09/50/43/0e3b30e8-fdef-42be-9833-cedbde3c698a/Y
 ou%20are%20invited.png
END:VEVENT
END:VCALENDAR
